BEGIN:VCALENDAR
VERSION:2.0
PRODID:-// - ECPv6.15.10//NONSGML v1.0//EN
CALSCALE:GREGORIAN
METHOD:PUBLISH
X-ORIGINAL-URL:https://cms-pto.org
X-WR-CALDESC:Events for 
REFRESH-INTERVAL;VALUE=DURATION:PT1H
X-Robots-Tag:noindex
X-PUBLISHED-TTL:PT1H
BEGIN:VTIMEZONE
TZID:America/Denver
BEGIN:DAYLIGHT
TZOFFSETFROM:-0700
TZOFFSETTO:-0600
TZNAME:MDT
DTSTART:20180311T090000
END:DAYLIGHT
BEGIN:STANDARD
TZOFFSETFROM:-0600
TZOFFSETTO:-0700
TZNAME:MST
DTSTART:20181104T080000
END:STANDARD
BEGIN:DAYLIGHT
TZOFFSETFROM:-0700
TZOFFSETTO:-0600
TZNAME:MDT
DTSTART:20190310T090000
END:DAYLIGHT
BEGIN:STANDARD
TZOFFSETFROM:-0600
TZOFFSETTO:-0700
TZNAME:MST
DTSTART:20191103T080000
END:STANDARD
BEGIN:DAYLIGHT
TZOFFSETFROM:-0700
TZOFFSETTO:-0600
TZNAME:MDT
DTSTART:20200308T090000
END:DAYLIGHT
BEGIN:STANDARD
TZOFFSETFROM:-0600
TZOFFSETTO:-0700
TZNAME:MST
DTSTART:20201101T080000
END:STANDARD
BEGIN:DAYLIGHT
TZOFFSETFROM:-0700
TZOFFSETTO:-0600
TZNAME:MDT
DTSTART:20210314T090000
END:DAYLIGHT
BEGIN:STANDARD
TZOFFSETFROM:-0600
TZOFFSETTO:-0700
TZNAME:MST
DTSTART:20211107T080000
END:STANDARD
END:VTIMEZONE
BEGIN:VEVENT
DTSTART;VALUE=DATE:20200827
DTEND;VALUE=DATE:20200828
DTSTAMP:20260423T213525
CREATED:20200731T025734Z
LAST-MODIFIED:20200731T025756Z
UID:879-1598486400-1598572799@cms-pto.org
SUMMARY:Virtual Back to School Night
DESCRIPTION:
URL:https://cms-pto.org/event/virtual-back-to-school-night/
END:VEVENT
BEGIN:VEVENT
DTSTART;TZID=America/Denver:20200818T153000
DTEND;TZID=America/Denver:20200818T163000
DTSTAMP:20260423T213525
CREATED:20200728T212838Z
LAST-MODIFIED:20200915T192324Z
UID:852-1597764600-1597768200@cms-pto.org
SUMMARY:CMS-PTO Meeting (August)
DESCRIPTION:Join Zoom Meeting\nhttps://us02web.zoom.us/j/86368297481?pwd=V1BodXJqc3IzMjZuem0yVDlDT1ZFQT09 \nMeeting ID: 863 6829 7481\nPasscode: gobears! \n2020-08-18 CMS-PTO Meeting Agenda \n2020-08-18 CMS-PTO Meeting Minutes
URL:https://cms-pto.org/event/cms-pto-meeting-august/
END:VEVENT
BEGIN:VEVENT
DTSTART;VALUE=DATE:20200813
DTEND;VALUE=DATE:20200814
DTSTAMP:20260423T213525
CREATED:20200731T025619Z
LAST-MODIFIED:20200731T025649Z
UID:877-1597276800-1597363199@cms-pto.org
SUMMARY:First Day of School (Digital Learning)
DESCRIPTION:
URL:https://cms-pto.org/event/first-day-of-school-digital-learning/
END:VEVENT
BEGIN:VEVENT
DTSTART;VALUE=DATE:20200812
DTEND;VALUE=DATE:20200813
DTSTAMP:20260423T213525
CREATED:20200731T025526Z
LAST-MODIFIED:20200731T025559Z
UID:875-1597190400-1597276799@cms-pto.org
SUMMARY:Schedules available in Synergy - ParentVUE
DESCRIPTION:
URL:https://cms-pto.org/event/schedules-available-in-synergy-parentvue/
END:VEVENT
BEGIN:VEVENT
DTSTART;VALUE=DATE:20200807
DTEND;VALUE=DATE:20200808
DTSTAMP:20260423T213525
CREATED:20200731T025410Z
LAST-MODIFIED:20200731T025439Z
UID:873-1596758400-1596844799@cms-pto.org
SUMMARY:WEB Orientation Information (6th Graders)
DESCRIPTION:
URL:https://cms-pto.org/event/web-orientation-information-6th-graders/
END:VEVENT
BEGIN:VEVENT
DTSTART;TZID=America/Denver:20200506T183000
DTEND;TZID=America/Denver:20200506T200000
DTSTAMP:20260423T213525
CREATED:20190807T080523Z
LAST-MODIFIED:20190807T080523Z
UID:662-1588789800-1588795200@cms-pto.org
SUMMARY:CMS-PTO Meeting
DESCRIPTION:
URL:https://cms-pto.org/event/cms-pto-meeting-15/
LOCATION:Cupertino Middle School – Office Conference Room\, 1650 S Bernardo Ave\,\, Sunnyvale\, CA\, 94087\, United States
CATEGORIES:CMS-PTO Meeting
END:VEVENT
BEGIN:VEVENT
DTSTART;TZID=America/Denver:20200401T180000
DTEND;TZID=America/Denver:20200401T200000
DTSTAMP:20260423T213525
CREATED:20190807T080344Z
LAST-MODIFIED:20190807T080344Z
UID:660-1585764000-1585771200@cms-pto.org
SUMMARY:CMS-PTO Meeting
DESCRIPTION:
URL:https://cms-pto.org/event/cms-pto-meeting-14/
LOCATION:Cupertino Middle School – Office Conference Room\, 1650 S Bernardo Ave\,\, Sunnyvale\, CA\, 94087\, United States
CATEGORIES:CMS-PTO Meeting
END:VEVENT
BEGIN:VEVENT
DTSTART;TZID=America/Denver:20200304T183000
DTEND;TZID=America/Denver:20200304T200000
DTSTAMP:20260423T213525
CREATED:20190807T080231Z
LAST-MODIFIED:20190807T080231Z
UID:658-1583346600-1583352000@cms-pto.org
SUMMARY:CMS-PTO Meeting
DESCRIPTION:
URL:https://cms-pto.org/event/cms-pto-meeting-13/
LOCATION:Cupertino Middle School – Office Conference Room\, 1650 S Bernardo Ave\,\, Sunnyvale\, CA\, 94087\, United States
CATEGORIES:CMS-PTO Meeting
END:VEVENT
BEGIN:VEVENT
DTSTART;TZID=America/Denver:20200212T183000
DTEND;TZID=America/Denver:20200212T200000
DTSTAMP:20260423T213525
CREATED:20200116T011030Z
LAST-MODIFIED:20200116T011030Z
UID:800-1581532200-1581537600@cms-pto.org
SUMMARY:CMS-PTO Talk (Parent Education): Suicide Awareness and Prevention
DESCRIPTION:Did you know that suicide is the second leading cause of death of children ages 10-14? Did you know that one in five California high schoolers have considered suicide? Did you notice the suicide hotline phone number on the back of your student’s ID card? \nYouth death by suicide happens in our area. It’s not only the overly sad\, depressed students who contemplate suicide. Students who are bullied\, who feel that they can’t please their parents\, or who struggle in class may contemplate suicide. Students who are high-achieving academics or top-tier athletes also consider it. \nDr. Mark Reinecke\, Clinical Director of the Child Mind Institute\, San Mateo\, will speak about warning signs\, what steps to take\, and how to talk to your child about suicide. Even if you believe that your child would never attempt suicide\, you should come to this CMS-PTO Talk. Learn how to have an open dialogue with your child about this issue. Get advice on what your child should do if they hear a friend threatening suicide. Our whole community needs to be educated about this critical topic.\n         \nPlease RSVP at https://www.eventbrite.com/e/cms-pto-talk-suicide-awareness-and-prevention-tickets-86468935915
URL:https://cms-pto.org/event/cms-pto-talk-parent-education-suicide-awareness-and-prevention/
LOCATION:CMS Library
CATEGORIES:CMS-PTO Talk
END:VEVENT
BEGIN:VEVENT
DTSTART;TZID=America/Denver:20200205T183000
DTEND;TZID=America/Denver:20200205T200000
DTSTAMP:20260423T213525
CREATED:20190807T075952Z
LAST-MODIFIED:20190807T075952Z
UID:656-1580927400-1580932800@cms-pto.org
SUMMARY:CMS-PTO Meeting
DESCRIPTION:
URL:https://cms-pto.org/event/cms-pto-meeting-12/
LOCATION:Cupertino Middle School – Office Conference Room\, 1650 S Bernardo Ave\,\, Sunnyvale\, CA\, 94087\, United States
CATEGORIES:CMS-PTO Meeting
END:VEVENT
BEGIN:VEVENT
DTSTART;TZID=America/Denver:20200129T183000
DTEND;TZID=America/Denver:20200129T200000
DTSTAMP:20260423T213525
CREATED:20200116T010513Z
LAST-MODIFIED:20200116T010513Z
UID:798-1580322600-1580328000@cms-pto.org
SUMMARY:CMS-PTO Talk (Parent Education): Stress and Anxiety in Tweens and Teens
DESCRIPTION:Anxiety is the most common emotional problem in children. Students can experience test anxiety and social anxiety\, as well as other types. Anxiety can present itself as nervousness\, but can also include things such as a stomach ache\, inattentiveness\, aggression\, or disruptive behavior. \n\nJoin us as Dr. Mark Reinecke\, Clinical Director of the Child Mind Institute\, San Mateo\, speaks about stress and anxiety in tweens and teens. He will discuss symptoms of such concerns and present some helpful tips about how you can identify and help your child manage their stress and anxiety. Please RSVP at https://www.eventbrite.com/e/cms-pto-talk-stress-anxiety-in-tweens-teens-tickets-86467830609
URL:https://cms-pto.org/event/cms-pto-talk-parent-education-stress-and-anxiety-in-tweens-and-teens/
LOCATION:CMS Library
CATEGORIES:CMS-PTO Talk
END:VEVENT
BEGIN:VEVENT
DTSTART;TZID=America/Denver:20200122T170000
DTEND;TZID=America/Denver:20200122T220000
DTSTAMP:20260423T213525
CREATED:20200116T005810Z
LAST-MODIFIED:20200116T005850Z
UID:795-1579712400-1579730400@cms-pto.org
SUMMARY:Dine-out Night at BJ's Restaurant
DESCRIPTION:Dine out (or take out) and earn money for CMS-PTO! Our next dine-out night is at BJ’s Restaurant on Wednesday\, January 22\, 2020 from 5:00-10:00pm. BJ’s is located at 10690 N. De Anza Blvd. in Cupertino. Please show your server the flier at this link when ordering: https://cms-pto.org/wp-content/uploads/2019/11/CMS-dine-out-1.pdf    Or mention the flyer when you call the restaurant at 408-865-6970 and place a take-out order. 
URL:https://cms-pto.org/event/dine-out-night-at-bjs-restaurant/
LOCATION:BJ’s Restaurant\, 10690 N. De Anza Blvd.\, Cupertino\, CA
CATEGORIES:Dine Out Night
END:VEVENT
BEGIN:VEVENT
DTSTART;TZID=America/Denver:20200108T183000
DTEND;TZID=America/Denver:20200108T200000
DTSTAMP:20260423T213525
CREATED:20190807T075458Z
LAST-MODIFIED:20190807T075458Z
UID:654-1578508200-1578513600@cms-pto.org
SUMMARY:CMS-PTO Meeting
DESCRIPTION:
URL:https://cms-pto.org/event/cms-pto-meeting-11/
LOCATION:Cupertino Middle School – Office Conference Room\, 1650 S Bernardo Ave\,\, Sunnyvale\, CA\, 94087\, United States
CATEGORIES:CMS-PTO Meeting
END:VEVENT
BEGIN:VEVENT
DTSTART;TZID=America/Denver:20191211T082000
DTEND;TZID=America/Denver:20191211T093000
DTSTAMP:20260423T213525
CREATED:20191205T233123Z
LAST-MODIFIED:20191205T233123Z
UID:786-1576052400-1576056600@cms-pto.org
SUMMARY: Coffee and Conversation with CMS Principal\, Jenn Lashier
DESCRIPTION:You’re invited to CMS-PTO’s second Coffee and Conversation with CMS Principal\, Jenn Lashier. It will take place on Tuesday\, Dec. 10 from 8:20-9:30am in the Staff Lounge. This is a great opportunity to chat with Dr. Lashier and meet other CMS parents. Coffee and juice will be provided. When you arrive at campus\, please sign in at the office and you’ll be directed to the Staff Lounge. Questions? Please contact May Bakken at president@cms-pto.org.
URL:https://cms-pto.org/event/coffee-and-conversation-with-cms-principal-jenn-lashier/
LOCATION:CMS Staff Lounge
END:VEVENT
BEGIN:VEVENT
DTSTART;TZID=America/Denver:20191204T183000
DTEND;TZID=America/Denver:20191204T200000
DTSTAMP:20260423T213525
CREATED:20190807T075130Z
LAST-MODIFIED:20190807T075130Z
UID:652-1575484200-1575489600@cms-pto.org
SUMMARY:CMS-PTO Meeting
DESCRIPTION:
URL:https://cms-pto.org/event/cms-pto-meeting-10/
LOCATION:Cupertino Middle School – Office Conference Room\, 1650 S Bernardo Ave\,\, Sunnyvale\, CA\, 94087\, United States
CATEGORIES:CMS-PTO Meeting
END:VEVENT
BEGIN:VEVENT
DTSTART;TZID=America/Denver:20191113T183000
DTEND;TZID=America/Denver:20191113T200000
DTSTAMP:20260423T213525
CREATED:20190904T213310Z
LAST-MODIFIED:20190904T213310Z
UID:704-1573669800-1573675200@cms-pto.org
SUMMARY:CMS-PTO Talk: EQ - Emotional Intelligence
DESCRIPTION:We can all be overly emotional at times. Emotional intelligence is the ability to be aware of\, control\, and express one’s emotions\, as well as identify the emotions of people around you. Emotional intelligence (EQ) becomes increasingly more important as a student gets older to reach their full potential.
URL:https://cms-pto.org/event/cms-pto-talk-eq-emotional-intelligence/
LOCATION:CMS Library
CATEGORIES:CMS-PTO Community Event,CMS-PTO Talk
END:VEVENT
BEGIN:VEVENT
DTSTART;TZID=America/Denver:20191106T183000
DTEND;TZID=America/Denver:20191106T200000
DTSTAMP:20260423T213525
CREATED:20190807T073832Z
LAST-MODIFIED:20190807T074039Z
UID:649-1573065000-1573070400@cms-pto.org
SUMMARY:CMS-PTO Meeting
DESCRIPTION:
URL:https://cms-pto.org/event/cms-pto-meeting-9/
LOCATION:Cupertino Middle School – Office Conference Room\, 1650 S Bernardo Ave\,\, Sunnyvale\, CA\, 94087\, United States
CATEGORIES:CMS-PTO Meeting
END:VEVENT
BEGIN:VEVENT
DTSTART;TZID=America/Denver:20191029T170000
DTEND;TZID=America/Denver:20191029T210000
DTSTAMP:20260423T213525
CREATED:20190807T073415Z
LAST-MODIFIED:20190807T073640Z
UID:647-1572368400-1572382800@cms-pto.org
SUMMARY:Dine Out Night at Chipotle
DESCRIPTION:Help raise funds for CMS-PTO by dining out at Chipotle! Mention CMS-PTO to the cashier and 33% of the proceeds will be donated to our organization.
URL:https://cms-pto.org/event/dine-out-night-at-chipotle/
LOCATION:Chipotle\, 20688 Homestead Rd.\, Cupertino\, CA\, United States
CATEGORIES:Dine Out Night
END:VEVENT
BEGIN:VEVENT
DTSTART;TZID=America/Denver:20191018T160000
DTEND;TZID=America/Denver:20191018T190000
DTSTAMP:20260423T213525
CREATED:20190807T070145Z
LAST-MODIFIED:20190807T074148Z
UID:644-1571414400-1571425200@cms-pto.org
SUMMARY:Fall Family Night
DESCRIPTION:Join us for an evening of international flavors and music as we celebrate the diversity of the CMS community! \nThe book fair will also be open that evening.
URL:https://cms-pto.org/event/fall-family-night/
LOCATION:CMS Quad
CATEGORIES:CMS-PTO Community Event
END:VEVENT
BEGIN:VEVENT
DTSTART;TZID=America/Denver:20191002T183000
DTEND;TZID=America/Denver:20191002T200000
DTSTAMP:20260423T213525
CREATED:20190807T065522Z
LAST-MODIFIED:20190807T074027Z
UID:642-1570041000-1570046400@cms-pto.org
SUMMARY:CMS-PTO Meeting
DESCRIPTION:
URL:https://cms-pto.org/event/cms-pto-meeting-7/
LOCATION:Cupertino Middle School – Office Conference Room\, 1650 S Bernardo Ave\,\, Sunnyvale\, CA\, 94087\, United States
CATEGORIES:CMS-PTO Meeting
END:VEVENT
BEGIN:VEVENT
DTSTART;TZID=America/Denver:20190924T170000
DTEND;TZID=America/Denver:20190924T210000
DTSTAMP:20260423T213525
CREATED:20190806T082435Z
LAST-MODIFIED:20190807T065220Z
UID:637-1569344400-1569358800@cms-pto.org
SUMMARY:Dine Out Night at Chipotle
DESCRIPTION:Help raise funds for CMS-PTO by dining out at Chipotle! Mention CMS-PTO to the cashier and 33% of the proceeds will be donated to our organization.
URL:https://cms-pto.org/event/cms-pto-meeting-5/
LOCATION:Chipotle\, 20688 Homestead Rd.\, Cupertino\, CA\, United States
CATEGORIES:Dine Out Night
END:VEVENT
BEGIN:VEVENT
DTSTART;TZID=America/Denver:20190917T183000
DTEND;TZID=America/Denver:20190917T200000
DTSTAMP:20260423T213525
CREATED:20190904T211219Z
LAST-MODIFIED:20190904T211219Z
UID:702-1568745000-1568750400@cms-pto.org
SUMMARY:CMS-PTO Talk: Executive Function (Sept. 17\, 2019)
DESCRIPTION:Have you ever thought that your child should be more organized? Is it frustrating when they wait until the last minute to complete a project instead of managing their time effectively? \nJoin us and learn more about Executive Function and how we can help our children improve these skills.
URL:https://cms-pto.org/event/cms-pto-talk-executive-function-sept-17-2019/
LOCATION:CMS Library
CATEGORIES:CMS-PTO Community Event,CMS-PTO Talk
END:VEVENT
BEGIN:VEVENT
DTSTART;TZID=America/Denver:20190904T183000
DTEND;TZID=America/Denver:20190904T200000
DTSTAMP:20260423T213525
CREATED:20190806T082033Z
LAST-MODIFIED:20190807T074016Z
UID:634-1567621800-1567627200@cms-pto.org
SUMMARY:CMS-PTO Meeting
DESCRIPTION:
URL:https://cms-pto.org/event/cms-pto-meeting-3/
LOCATION:Cupertino Middle School – Office Conference Room\, 1650 S Bernardo Ave\,\, Sunnyvale\, CA\, 94087\, United States
CATEGORIES:CMS-PTO Meeting
END:VEVENT
BEGIN:VEVENT
DTSTART;TZID=America/Denver:20190828T183000
DTEND;TZID=America/Denver:20190828T200000
DTSTAMP:20260423T213525
CREATED:20190806T081435Z
LAST-MODIFIED:20190806T081600Z
UID:632-1567017000-1567022400@cms-pto.org
SUMMARY:Back to School Night
DESCRIPTION:
URL:https://cms-pto.org/event/back-to-school-night/
LOCATION:Cupertino Middle School
END:VEVENT
BEGIN:VEVENT
DTSTART;TZID=America/Denver:20190821T183000
DTEND;TZID=America/Denver:20190821T200000
DTSTAMP:20260423T213525
CREATED:20190806T081056Z
LAST-MODIFIED:20190807T073938Z
UID:630-1566412200-1566417600@cms-pto.org
SUMMARY:CMS-PTO Meeting
DESCRIPTION:
URL:https://cms-pto.org/event/cms-pto-meeting-2/
LOCATION:Cupertino Middle School – Office Conference Room\, 1650 S Bernardo Ave\,\, Sunnyvale\, CA\, 94087\, United States
CATEGORIES:CMS-PTO Meeting
END:VEVENT
BEGIN:VEVENT
DTSTART;TZID=America/Denver:20190815T081500
DTEND;TZID=America/Denver:20190815T083000
DTSTAMP:20260423T213525
CREATED:20190814T204243Z
LAST-MODIFIED:20190814T204243Z
UID:689-1565856900-1565857800@cms-pto.org
SUMMARY:Meet and Greet with CMS principal\, Dr. Jennifer Lashier
DESCRIPTION:CMS-PTO is hosting a Meet and Greet with CMS’ principal\, Dr. Jennifer Lashier\, on the first day of school\, Thursday\, August 15. Join us outside the Event Center/new gym (on Helena) after you drop your kids off. Dr. Lashier will speak at 8:15am. We hope to see you there!
URL:https://cms-pto.org/event/meet-and-greet-with-cms-principal-dr-jennifer-lashier/
LOCATION:CMS Event Center on Helena
END:VEVENT
BEGIN:VEVENT
DTSTART;TZID=America/Denver:20190815T080500
DTEND;TZID=America/Denver:20190815T145500
DTSTAMP:20260423T213525
CREATED:20190806T070243Z
LAST-MODIFIED:20190806T080704Z
UID:628-1565856300-1565880900@cms-pto.org
SUMMARY:First day of school
DESCRIPTION:
URL:https://cms-pto.org/event/first-day-of-school/
END:VEVENT
BEGIN:VEVENT
DTSTART;TZID=America/Denver:20190813T160000
DTEND;TZID=America/Denver:20190813T180000
DTSTAMP:20260423T213525
CREATED:20190806T070120Z
LAST-MODIFIED:20190806T070120Z
UID:625-1565712000-1565719200@cms-pto.org
SUMMARY:Back to School Bash
DESCRIPTION:
URL:https://cms-pto.org/event/back-to-school-bash/
LOCATION:CMS Quad
END:VEVENT
BEGIN:VEVENT
DTSTART;TZID=America/Denver:20190516T183000
DTEND;TZID=America/Denver:20190516T193000
DTSTAMP:20260423T213525
CREATED:20180728T072921Z
LAST-MODIFIED:20190424T225930Z
UID:98-1558031400-1558035000@cms-pto.org
SUMMARY:CMS-PTO Meeting 9 (Voting Meeting)
DESCRIPTION:The Cupertino Middle School Parent Teacher Organization meets first Wednesday of each month in the school office conference room.\n*All CMS parents are welcome to attend and participate in the discussions and proposal reviews.
URL:https://cms-pto.org/event/cms-pto-meeting-8/
LOCATION:Cupertino Middle School – Office Conference Room\, 1650 S Bernardo Ave\,\, Sunnyvale\, CA\, 94087\, United States
END:VEVENT
BEGIN:VEVENT
DTSTART;TZID=America/Denver:20190410T183000
DTEND;TZID=America/Denver:20190410T193000
DTSTAMP:20260423T213525
CREATED:20190312T034410Z
LAST-MODIFIED:20190312T034410Z
UID:553-1554921000-1554924600@cms-pto.org
SUMMARY:CMS-PTO Talk: Where Did My Baby Go?
DESCRIPTION:The next CMS-PTO Talk is April 10\, 2019. \nAre you sick of backtalk\, disrespect\, laziness\, lack of motivation\, arguing\, swearing\, lack of cooperation\, lying\, dark looks and mood swings? \nIn this workshop that focuses on adolescent behavior\, learn \n\n• the key job of parenting a teen. \n• how you can manage the behaviors that make you feel like someone has replaced your child with an alien. \n•how to keep a close child-parent bond while at the same time giving your tweens and teens the increased freedom that they need. \n•how to handle a teen’s need for risk and rebellion. \nElisabeth Stitt is the author of Parenting as a Second Language: A Guidebook for Joyfully Navigating the Trials\, Triumphs and Tribulations of Parenthood and the founder of Joyful Parenting Coaching. A teacher in the Redwood City School District (Redwood City\, CA) for 25 years\, Elisabeth brings over 50 thousand direct contact hours with kids of all ages. Having taught over 3000 students\, she has seen all kinds of kids and all kinds of families. \n\n  \nhttps://www.eventbrite.com/e/cms-pto-talk-where-did-my-sweet-baby-go-tickets-58612539684
URL:https://cms-pto.org/event/cms-pto-talk-where-did-my-baby-go/
LOCATION:CMS Library
END:VEVENT
END:VCALENDAR