BEGIN:VCALENDAR
VERSION:2.0
PRODID:-// - ECPv6.15.10//NONSGML v1.0//EN
CALSCALE:GREGORIAN
METHOD:PUBLISH
X-ORIGINAL-URL:https://cms-pto.org
X-WR-CALDESC:Events for 
REFRESH-INTERVAL;VALUE=DURATION:PT1H
X-Robots-Tag:noindex
X-PUBLISHED-TTL:PT1H
BEGIN:VTIMEZONE
TZID:America/Denver
BEGIN:DAYLIGHT
TZOFFSETFROM:-0700
TZOFFSETTO:-0600
TZNAME:MDT
DTSTART:20190310T090000
END:DAYLIGHT
BEGIN:STANDARD
TZOFFSETFROM:-0600
TZOFFSETTO:-0700
TZNAME:MST
DTSTART:20191103T080000
END:STANDARD
BEGIN:DAYLIGHT
TZOFFSETFROM:-0700
TZOFFSETTO:-0600
TZNAME:MDT
DTSTART:20200308T090000
END:DAYLIGHT
BEGIN:STANDARD
TZOFFSETFROM:-0600
TZOFFSETTO:-0700
TZNAME:MST
DTSTART:20201101T080000
END:STANDARD
BEGIN:DAYLIGHT
TZOFFSETFROM:-0700
TZOFFSETTO:-0600
TZNAME:MDT
DTSTART:20210314T090000
END:DAYLIGHT
BEGIN:STANDARD
TZOFFSETFROM:-0600
TZOFFSETTO:-0700
TZNAME:MST
DTSTART:20211107T080000
END:STANDARD
BEGIN:DAYLIGHT
TZOFFSETFROM:-0700
TZOFFSETTO:-0600
TZNAME:MDT
DTSTART:20220313T090000
END:DAYLIGHT
BEGIN:STANDARD
TZOFFSETFROM:-0600
TZOFFSETTO:-0700
TZNAME:MST
DTSTART:20221106T080000
END:STANDARD
END:VTIMEZONE
BEGIN:VEVENT
DTSTART;VALUE=DATE:20210816
DTEND;VALUE=DATE:20210817
DTSTAMP:20260423T182629
CREATED:20210816T193845Z
LAST-MODIFIED:20210816T193845Z
UID:1173-1629072000-1629158399@cms-pto.org
SUMMARY:Welcome Back to School CMS Students! (2021-22)
DESCRIPTION:
URL:https://cms-pto.org/event/welcome-back-to-school-cms-students-2021-22/
END:VEVENT
BEGIN:VEVENT
DTSTART;TZID=America/Denver:20210811T183000
DTEND;TZID=America/Denver:20210811T200000
DTSTAMP:20260423T182629
CREATED:20210816T194205Z
LAST-MODIFIED:20210816T194205Z
UID:1175-1628706600-1628712000@cms-pto.org
SUMMARY:CMS-PTO Board Meeting (August)
DESCRIPTION:
URL:https://cms-pto.org/event/cms-pto-board-meeting-august/
END:VEVENT
BEGIN:VEVENT
DTSTART;TZID=America/Denver:20210514T183000
DTEND;TZID=America/Denver:20210514T193000
DTSTAMP:20260423T182629
CREATED:20201021T183947Z
LAST-MODIFIED:20201021T183947Z
UID:1022-1621017000-1621020600@cms-pto.org
SUMMARY:CMS-PTO Spring Event (Save the Date)
DESCRIPTION:
URL:https://cms-pto.org/event/cms-pto-spring-event-save-the-date/
END:VEVENT
BEGIN:VEVENT
DTSTART;TZID=America/Denver:20210223T153000
DTEND;TZID=America/Denver:20210223T163000
DTSTAMP:20260423T182629
CREATED:20210205T043857Z
LAST-MODIFIED:20210205T043857Z
UID:1085-1614094200-1614097800@cms-pto.org
SUMMARY:CMS-PTO (February)
DESCRIPTION:Topic: CMS-PTO Meeting (February 2021)\nTime: Feb 23\, 2021 03:30 PM Pacific Time (US and Canada) \nZoom Meeting\nhttps://us02web.zoom.us/j/85341058421?pwd=c0xFYWROdElXUWt4RmVwUkMxaXM1dz09 \nMeeting ID: 853 4105 8421\nPasscode: Gobears! \n 
URL:https://cms-pto.org/event/cms-pto-february/
END:VEVENT
BEGIN:VEVENT
DTSTART;TZID=America/Denver:20210209T180000
DTEND;TZID=America/Denver:20210209T190000
DTSTAMP:20260423T182629
CREATED:20210205T044115Z
LAST-MODIFIED:20210205T044115Z
UID:1088-1612893600-1612897200@cms-pto.org
SUMMARY:YES for CUSD Parent Information Night - Hosted by CMS-PTO
DESCRIPTION:Topic: YES for CUSD Parent Information Night – Hosted by CMS-PTO\nTime: Feb 9\, 2021 06:00 PM Pacific Time (US and Canada) \nZoom Meeting\nhttps://us02web.zoom.us/j/89632840134?pwd=T0MxbDAyYU84bjJqZnRnVTlMWEVFZz09 \nMeeting ID: 896 3284 0134\nPasscode: cms \n 
URL:https://cms-pto.org/event/yes-for-cusd-parent-information-night-hosted-by-cms-pto/
END:VEVENT
BEGIN:VEVENT
DTSTART;TZID=America/Denver:20210119T153000
DTEND;TZID=America/Denver:20210119T163000
DTSTAMP:20260423T182629
CREATED:20210205T043622Z
LAST-MODIFIED:20210205T043949Z
UID:1083-1611070200-1611073800@cms-pto.org
SUMMARY:CMS-PTO Meeting (January)
DESCRIPTION:Topic: CMS-PTO Meeting (January 2021)\nTime: Jan 19\, 2021 03:30 PM Pacific Time (US and Canada) \nZoom Meeting\nhttps://us02web.zoom.us/j/81414135325?pwd=bktTTnhhSllQbkhaVjBsM0ttakQrZz09 \nMeeting ID: 814 1413 5325\nPasscode: gobears! \n 
URL:https://cms-pto.org/event/cms-pto-meeting-january/
END:VEVENT
BEGIN:VEVENT
DTSTART;TZID=America/Denver:20201215T153000
DTEND;TZID=America/Denver:20201215T163000
DTSTAMP:20260423T182629
CREATED:20200915T192032Z
LAST-MODIFIED:20200915T192508Z
UID:951-1608046200-1608049800@cms-pto.org
SUMMARY:CMS-PTO Meeting (December)
DESCRIPTION:Join Zoom Meeting\nhttps://us02web.zoom.us/j/86018839584?pwd=WmVicXhvL2E2VDBGMVhYS3BaWXV1Zz09 \nMeeting ID: 860 1883 9584\nPasscode: gobears! \n2020-12-15 CMS-PTO Meeting Agenda
URL:https://cms-pto.org/event/cms-pto-meeting-december/
END:VEVENT
BEGIN:VEVENT
DTSTART;TZID=America/Denver:20201130T183000
DTEND;TZID=America/Denver:20201130T200000
DTSTAMP:20260423T182629
CREATED:20201111T071104Z
LAST-MODIFIED:20201111T071118Z
UID:1040-1606761000-1606766400@cms-pto.org
SUMMARY:CMS-PTO Professional Speaker Series: "A Day In The Life Of Authors"
DESCRIPTION:Do you  love to write? Do you aspire to become a writer and publish a book someday? Students\, we have a treat for you. Come listen to our panelists of authors and be inspired. \nZoom: Meeting ID: 899 1437 8853\nPasscode: Writing \n 
URL:https://cms-pto.org/event/cms-pto-professional-speaker-series-a-day-in-the-life-of-authors/
END:VEVENT
BEGIN:VEVENT
DTSTART;TZID=America/Denver:20201119T193000
DTEND;TZID=America/Denver:20201119T203000
DTSTAMP:20260423T182629
CREATED:20201111T070614Z
LAST-MODIFIED:20201111T070614Z
UID:1038-1605814200-1605817800@cms-pto.org
SUMMARY:CMS-PTO Parent Talk Series: "How to release stress and create success in uncertain times"
DESCRIPTION:Zoom Meeting ID: 838 5742 2511\nPassword: Relax
URL:https://cms-pto.org/event/cms-pto-parent-talk-series-how-to-release-stress-and-create-success-in-uncertain-times/
END:VEVENT
BEGIN:VEVENT
DTSTART;TZID=America/Denver:20201117T153000
DTEND;TZID=America/Denver:20201117T163000
DTSTAMP:20260423T182629
CREATED:20200915T191758Z
LAST-MODIFIED:20201117T230845Z
UID:948-1605627000-1605630600@cms-pto.org
SUMMARY:CMS-PTO Meeting (November)
DESCRIPTION:May Bakken is inviting you to a scheduled Zoom meeting. \nJoin Zoom Meeting\nhttps://us02web.zoom.us/j/87435540832?pwd=cXJySmRQYU5MOGNUZm5WRmNYK1I4UT09 \nMeeting ID: 874 3554 0832\nPasscode: gobears! \n2020-11-17 CMS-PTO Meeting Agenda1 \nTreasurer Report 2020_10_19 \n 
URL:https://cms-pto.org/event/cms-pto-meeting-november/
END:VEVENT
BEGIN:VEVENT
DTSTART;TZID=America/Denver:20201102T160000
DTEND;TZID=America/Denver:20201102T210000
DTSTAMP:20260423T182629
CREATED:20201009T212044Z
LAST-MODIFIED:20201009T212044Z
UID:1010-1604332800-1604350800@cms-pto.org
SUMMARY:"Pizza My Heart Fundraiser" to support CMS
DESCRIPTION:Monday\, Nov 2\, 4-9pm\nPizza My Heart\n110 E. El Camino\, Sunnyvale.\n(408) 245 4100\nBe sure to mention CMS-PTO when ordering.\n30% will be donating to the CMS-PTO! \nCupertino Middle School – Pizza my Heart – Nov 2
URL:https://cms-pto.org/event/pizza-my-heart-fundraiser-to-support-cms/
END:VEVENT
BEGIN:VEVENT
DTSTART;TZID=America/Denver:20201020T153000
DTEND;TZID=America/Denver:20201020T163000
DTSTAMP:20260423T182629
CREATED:20200901T211353Z
LAST-MODIFIED:20201021T183806Z
UID:913-1603207800-1603211400@cms-pto.org
SUMMARY:CMS-PTO Meeting (October)
DESCRIPTION:Join Zoom Meeting\nhttps://us02web.zoom.us/j/88341947450?pwd=aG4yRXc3UlFuZHZmVTNoMnZ4ZHJNUT09 \nMeeting ID: 883 4194 7450\nPasscode: gobears! \n2020-10-20 CMS-PTO Meeting Agenda \nTreasurer Report 2020_10_19 \n2020-10-20 CMS-PTO Meeting Minutes
URL:https://cms-pto.org/event/cms-pto-meeting-october/
END:VEVENT
BEGIN:VEVENT
DTSTART;VALUE=DATE:20201016
DTEND;VALUE=DATE:20201017
DTSTAMP:20260423T182629
CREATED:20200901T211526Z
LAST-MODIFIED:20201009T192508Z
UID:915-1602806400-1602892799@cms-pto.org
SUMMARY:CMS Virtual Fall Family Night @ 6:30pm
DESCRIPTION:Join Zoom Meeting\nhttps://us02web.zoom.us/j/87085568789?pwd=bW0wMU4wWjhkYUZlRUtJc3dJV2NEdz09 \nMeeting ID: 870 8556 8789 | Passcode: GoBears!
URL:https://cms-pto.org/event/cms-virtual-fall-family-night/
END:VEVENT
BEGIN:VEVENT
DTSTART;VALUE=DATE:20201015
DTEND;VALUE=DATE:20201016
DTSTAMP:20260423T182629
CREATED:20201009T192650Z
LAST-MODIFIED:20201009T192709Z
UID:1007-1602720000-1602806399@cms-pto.org
SUMMARY:“Coconut’s Fish Cafe CMS Fundraiser”
DESCRIPTION:
URL:https://cms-pto.org/event/coconuts-fish-cafe-cms-fundraiser/
END:VEVENT
BEGIN:VEVENT
DTSTART;VALUE=DATE:20201012
DTEND;VALUE=DATE:20201013
DTSTAMP:20260423T182629
CREATED:20200915T192830Z
LAST-MODIFIED:20201009T192802Z
UID:957-1602460800-1602547199@cms-pto.org
SUMMARY:CMS Online Book Fair
DESCRIPTION:https://www.scholastic.com/bf/fallcms2020
URL:https://cms-pto.org/event/cms-online-book-fair/
END:VEVENT
BEGIN:VEVENT
DTSTART;TZID=America/Denver:20201001T180000
DTEND;TZID=America/Denver:20201001T190000
DTSTAMP:20260423T182629
CREATED:20200901T212731Z
LAST-MODIFIED:20200930T212227Z
UID:921-1601575200-1601578800@cms-pto.org
SUMMARY:CMS-PTO Talk  “Strategies to Support Home Learning - Supporting The Whole Family”
DESCRIPTION:Speaker: Dr. Leena Khanzode\, Director\, Taarika\n\n\nWhen: Oct 1\, 2020 06:00 PM Pacific Time (US and Canada) \nRegister in advance for this meeting:\nhttps://us02web.zoom.us/meeting/register/tZIkd-qpqDMoGdcgKC2JnEFcJGXXeWMiP7ih \nMeeting ID: 869 0316 8233\nPasscode: GoBears!
URL:https://cms-pto.org/event/strategies-to-support-home-learning-supporting-the-whole-child/
END:VEVENT
BEGIN:VEVENT
DTSTART;TZID=America/Denver:20200928T183000
DTEND;TZID=America/Denver:20200928T200000
DTSTAMP:20260423T182629
CREATED:20200915T193525Z
LAST-MODIFIED:20200915T193614Z
UID:960-1601317800-1601323200@cms-pto.org
SUMMARY:CMS-PTO Professional Speaker Series: "A Day In The Life Of"
DESCRIPTION:Join Zoom Meeting\nhttps://us02web.zoom.us/j/85241057392?pwd=V0gvZkFhY3BVY3lzMkp1YkhNa1ZkUT09 \nMeeting ID: 852 4105 7392\nPasscode: GoBears! \n*registration required so allow time for that when attending this session
URL:https://cms-pto.org/event/cms-pto-professional-speaker-series-a-day-in-the-life-of/
END:VEVENT
BEGIN:VEVENT
DTSTART;TZID=America/Denver:20200915T153000
DTEND;TZID=America/Denver:20200915T163000
DTSTAMP:20260423T182629
CREATED:20200728T213524Z
LAST-MODIFIED:20200916T172348Z
UID:854-1600183800-1600187400@cms-pto.org
SUMMARY:CMS-PTO Meeting (September)
DESCRIPTION:Join Zoom Meeting\nhttps://us02web.zoom.us/j/81022718533?pwd=ejc0Zmp0YklKVkMyVFlONnJRdHJNUT09 \nMeeting ID: 810 2271 8533\nPasscode: gobears! \n2020-09-15 CMS-PTO Meeting Agenda1 \n2020-09-15 CMS-PTO Meeting Minutes
URL:https://cms-pto.org/event/cms-pto-meeting-september/
END:VEVENT
BEGIN:VEVENT
DTSTART;TZID=America/Denver:20200910T180000
DTEND;TZID=America/Denver:20200910T190000
DTSTAMP:20260423T182629
CREATED:20200901T212532Z
LAST-MODIFIED:20200901T215235Z
UID:918-1599760800-1599764400@cms-pto.org
SUMMARY:CMS-PTO Talk: "Parenting a Virtual Learner"
DESCRIPTION:For better or worse\, parents of virtual learners have more oversight and are more heavily relied upon for support. This presentation covers strategies to set your child up for virtual learning success. All great minds do NOT think alike and so parents can make accommodations at home to fit their child’s needs. This presentation describes common obstacles to virtual learning and cover adaptations that can be made at home address a child’s learning variations (easily distracted\, anxious\, unmotivated\, etc.).\n\n\nSpeaker: Dr. Damon Korb\, MD\nDirector\, Center for Developing Minds
URL:https://cms-pto.org/event/cms-pto-talk-parenting-a-virtual-learner/
END:VEVENT
BEGIN:VEVENT
DTSTART;TZID=America/Denver:20200901T080000
DTEND;TZID=America/Denver:20200901T170000
DTSTAMP:20260423T182629
CREATED:20200901T214414Z
LAST-MODIFIED:20200901T214504Z
UID:925-1598947200-1598979600@cms-pto.org
SUMMARY:Fundraiser "Dine Out Night at Chipotle"
DESCRIPTION:ChipotleCMS-flyer
URL:https://cms-pto.org/event/dine-out-night-chipotle/
END:VEVENT
BEGIN:VEVENT
DTSTART;VALUE=DATE:20200827
DTEND;VALUE=DATE:20200828
DTSTAMP:20260423T182629
CREATED:20200731T025734Z
LAST-MODIFIED:20200731T025756Z
UID:879-1598486400-1598572799@cms-pto.org
SUMMARY:Virtual Back to School Night
DESCRIPTION:
URL:https://cms-pto.org/event/virtual-back-to-school-night/
END:VEVENT
BEGIN:VEVENT
DTSTART;TZID=America/Denver:20200818T153000
DTEND;TZID=America/Denver:20200818T163000
DTSTAMP:20260423T182629
CREATED:20200728T212838Z
LAST-MODIFIED:20200915T192324Z
UID:852-1597764600-1597768200@cms-pto.org
SUMMARY:CMS-PTO Meeting (August)
DESCRIPTION:Join Zoom Meeting\nhttps://us02web.zoom.us/j/86368297481?pwd=V1BodXJqc3IzMjZuem0yVDlDT1ZFQT09 \nMeeting ID: 863 6829 7481\nPasscode: gobears! \n2020-08-18 CMS-PTO Meeting Agenda \n2020-08-18 CMS-PTO Meeting Minutes
URL:https://cms-pto.org/event/cms-pto-meeting-august/
END:VEVENT
BEGIN:VEVENT
DTSTART;VALUE=DATE:20200813
DTEND;VALUE=DATE:20200814
DTSTAMP:20260423T182629
CREATED:20200731T025619Z
LAST-MODIFIED:20200731T025649Z
UID:877-1597276800-1597363199@cms-pto.org
SUMMARY:First Day of School (Digital Learning)
DESCRIPTION:
URL:https://cms-pto.org/event/first-day-of-school-digital-learning/
END:VEVENT
BEGIN:VEVENT
DTSTART;VALUE=DATE:20200812
DTEND;VALUE=DATE:20200813
DTSTAMP:20260423T182629
CREATED:20200731T025526Z
LAST-MODIFIED:20200731T025559Z
UID:875-1597190400-1597276799@cms-pto.org
SUMMARY:Schedules available in Synergy - ParentVUE
DESCRIPTION:
URL:https://cms-pto.org/event/schedules-available-in-synergy-parentvue/
END:VEVENT
BEGIN:VEVENT
DTSTART;VALUE=DATE:20200807
DTEND;VALUE=DATE:20200808
DTSTAMP:20260423T182629
CREATED:20200731T025410Z
LAST-MODIFIED:20200731T025439Z
UID:873-1596758400-1596844799@cms-pto.org
SUMMARY:WEB Orientation Information (6th Graders)
DESCRIPTION:
URL:https://cms-pto.org/event/web-orientation-information-6th-graders/
END:VEVENT
BEGIN:VEVENT
DTSTART;TZID=America/Denver:20200506T183000
DTEND;TZID=America/Denver:20200506T200000
DTSTAMP:20260423T182629
CREATED:20190807T080523Z
LAST-MODIFIED:20190807T080523Z
UID:662-1588789800-1588795200@cms-pto.org
SUMMARY:CMS-PTO Meeting
DESCRIPTION:
URL:https://cms-pto.org/event/cms-pto-meeting-15/
LOCATION:Cupertino Middle School – Office Conference Room\, 1650 S Bernardo Ave\,\, Sunnyvale\, CA\, 94087\, United States
CATEGORIES:CMS-PTO Meeting
END:VEVENT
BEGIN:VEVENT
DTSTART;TZID=America/Denver:20200401T180000
DTEND;TZID=America/Denver:20200401T200000
DTSTAMP:20260423T182629
CREATED:20190807T080344Z
LAST-MODIFIED:20190807T080344Z
UID:660-1585764000-1585771200@cms-pto.org
SUMMARY:CMS-PTO Meeting
DESCRIPTION:
URL:https://cms-pto.org/event/cms-pto-meeting-14/
LOCATION:Cupertino Middle School – Office Conference Room\, 1650 S Bernardo Ave\,\, Sunnyvale\, CA\, 94087\, United States
CATEGORIES:CMS-PTO Meeting
END:VEVENT
BEGIN:VEVENT
DTSTART;TZID=America/Denver:20200304T183000
DTEND;TZID=America/Denver:20200304T200000
DTSTAMP:20260423T182629
CREATED:20190807T080231Z
LAST-MODIFIED:20190807T080231Z
UID:658-1583346600-1583352000@cms-pto.org
SUMMARY:CMS-PTO Meeting
DESCRIPTION:
URL:https://cms-pto.org/event/cms-pto-meeting-13/
LOCATION:Cupertino Middle School – Office Conference Room\, 1650 S Bernardo Ave\,\, Sunnyvale\, CA\, 94087\, United States
CATEGORIES:CMS-PTO Meeting
END:VEVENT
BEGIN:VEVENT
DTSTART;TZID=America/Denver:20200212T183000
DTEND;TZID=America/Denver:20200212T200000
DTSTAMP:20260423T182629
CREATED:20200116T011030Z
LAST-MODIFIED:20200116T011030Z
UID:800-1581532200-1581537600@cms-pto.org
SUMMARY:CMS-PTO Talk (Parent Education): Suicide Awareness and Prevention
DESCRIPTION:Did you know that suicide is the second leading cause of death of children ages 10-14? Did you know that one in five California high schoolers have considered suicide? Did you notice the suicide hotline phone number on the back of your student’s ID card? \nYouth death by suicide happens in our area. It’s not only the overly sad\, depressed students who contemplate suicide. Students who are bullied\, who feel that they can’t please their parents\, or who struggle in class may contemplate suicide. Students who are high-achieving academics or top-tier athletes also consider it. \nDr. Mark Reinecke\, Clinical Director of the Child Mind Institute\, San Mateo\, will speak about warning signs\, what steps to take\, and how to talk to your child about suicide. Even if you believe that your child would never attempt suicide\, you should come to this CMS-PTO Talk. Learn how to have an open dialogue with your child about this issue. Get advice on what your child should do if they hear a friend threatening suicide. Our whole community needs to be educated about this critical topic.\n         \nPlease RSVP at https://www.eventbrite.com/e/cms-pto-talk-suicide-awareness-and-prevention-tickets-86468935915
URL:https://cms-pto.org/event/cms-pto-talk-parent-education-suicide-awareness-and-prevention/
LOCATION:CMS Library
CATEGORIES:CMS-PTO Talk
END:VEVENT
BEGIN:VEVENT
DTSTART;TZID=America/Denver:20200205T183000
DTEND;TZID=America/Denver:20200205T200000
DTSTAMP:20260423T182629
CREATED:20190807T075952Z
LAST-MODIFIED:20190807T075952Z
UID:656-1580927400-1580932800@cms-pto.org
SUMMARY:CMS-PTO Meeting
DESCRIPTION:
URL:https://cms-pto.org/event/cms-pto-meeting-12/
LOCATION:Cupertino Middle School – Office Conference Room\, 1650 S Bernardo Ave\,\, Sunnyvale\, CA\, 94087\, United States
CATEGORIES:CMS-PTO Meeting
END:VEVENT
END:VCALENDAR