BEGIN:VCALENDAR
VERSION:2.0
PRODID:-// - ECPv6.15.10//NONSGML v1.0//EN
CALSCALE:GREGORIAN
METHOD:PUBLISH
X-ORIGINAL-URL:https://cms-pto.org
X-WR-CALDESC:Events for 
REFRESH-INTERVAL;VALUE=DURATION:PT1H
X-Robots-Tag:noindex
X-PUBLISHED-TTL:PT1H
BEGIN:VTIMEZONE
TZID:America/Denver
BEGIN:DAYLIGHT
TZOFFSETFROM:-0700
TZOFFSETTO:-0600
TZNAME:MDT
DTSTART:20190310T090000
END:DAYLIGHT
BEGIN:STANDARD
TZOFFSETFROM:-0600
TZOFFSETTO:-0700
TZNAME:MST
DTSTART:20191103T080000
END:STANDARD
BEGIN:DAYLIGHT
TZOFFSETFROM:-0700
TZOFFSETTO:-0600
TZNAME:MDT
DTSTART:20200308T090000
END:DAYLIGHT
BEGIN:STANDARD
TZOFFSETFROM:-0600
TZOFFSETTO:-0700
TZNAME:MST
DTSTART:20201101T080000
END:STANDARD
BEGIN:DAYLIGHT
TZOFFSETFROM:-0700
TZOFFSETTO:-0600
TZNAME:MDT
DTSTART:20210314T090000
END:DAYLIGHT
BEGIN:STANDARD
TZOFFSETFROM:-0600
TZOFFSETTO:-0700
TZNAME:MST
DTSTART:20211107T080000
END:STANDARD
BEGIN:DAYLIGHT
TZOFFSETFROM:-0700
TZOFFSETTO:-0600
TZNAME:MDT
DTSTART:20220313T090000
END:DAYLIGHT
BEGIN:STANDARD
TZOFFSETFROM:-0600
TZOFFSETTO:-0700
TZNAME:MST
DTSTART:20221106T080000
END:STANDARD
BEGIN:DAYLIGHT
TZOFFSETFROM:-0700
TZOFFSETTO:-0600
TZNAME:MDT
DTSTART:20230312T090000
END:DAYLIGHT
BEGIN:STANDARD
TZOFFSETFROM:-0600
TZOFFSETTO:-0700
TZNAME:MST
DTSTART:20231105T080000
END:STANDARD
BEGIN:DAYLIGHT
TZOFFSETFROM:-0700
TZOFFSETTO:-0600
TZNAME:MDT
DTSTART:20240310T090000
END:DAYLIGHT
BEGIN:STANDARD
TZOFFSETFROM:-0600
TZOFFSETTO:-0700
TZNAME:MST
DTSTART:20241103T080000
END:STANDARD
END:VTIMEZONE
BEGIN:VEVENT
DTSTART;VALUE=DATE:20230314
DTEND;VALUE=DATE:20230315
DTSTAMP:20260423T152201
CREATED:20230228T211015Z
LAST-MODIFIED:20230228T211207Z
UID:1451-1678752000-1678838399@cms-pto.org
SUMMARY:Lazy dog fundraiser March 14
DESCRIPTION:Lazy Dog CMS Flier-compressed
URL:https://cms-pto.org/event/lazy-dog-fundraiser-march-14/
CATEGORIES:Dine Out Night
END:VEVENT
BEGIN:VEVENT
DTSTART;TZID=America/Denver:20230308T190000
DTEND;TZID=America/Denver:20230308T203000
DTSTAMP:20260423T152201
CREATED:20220830T013849Z
LAST-MODIFIED:20220830T013849Z
UID:1324-1678302000-1678307400@cms-pto.org
SUMMARY:CMS PTO Meeting (March)
DESCRIPTION:
URL:https://cms-pto.org/event/cms-pto-meeting-march/
END:VEVENT
BEGIN:VEVENT
DTSTART;TZID=America/Denver:20230208T190000
DTEND;TZID=America/Denver:20230208T203000
DTSTAMP:20260423T152201
CREATED:20220830T013809Z
LAST-MODIFIED:20220830T013809Z
UID:1322-1675882800-1675888200@cms-pto.org
SUMMARY:CMS PTO Meeting (February)
DESCRIPTION:
URL:https://cms-pto.org/event/cms-pto-meeting-february/
END:VEVENT
BEGIN:VEVENT
DTSTART;TZID=America/Denver:20230111T190000
DTEND;TZID=America/Denver:20230111T203000
DTSTAMP:20260423T152201
CREATED:20220830T013716Z
LAST-MODIFIED:20220830T013716Z
UID:1320-1673463600-1673469000@cms-pto.org
SUMMARY:CMS PTO Meeting (January)
DESCRIPTION:
URL:https://cms-pto.org/event/cms-pto-meeting-january-2/
END:VEVENT
BEGIN:VEVENT
DTSTART;TZID=America/Denver:20221214T190000
DTEND;TZID=America/Denver:20221214T203000
DTSTAMP:20260423T152201
CREATED:20220830T013624Z
LAST-MODIFIED:20220830T013624Z
UID:1318-1671044400-1671049800@cms-pto.org
SUMMARY:CMS PTO Meeting (December)
DESCRIPTION:
URL:https://cms-pto.org/event/cms-pto-meeting-december-2/
END:VEVENT
BEGIN:VEVENT
DTSTART;VALUE=DATE:20221212
DTEND;VALUE=DATE:20221213
DTSTAMP:20260423T152201
CREATED:20221020T202247Z
LAST-MODIFIED:20221020T202247Z
UID:1375-1670803200-1670889599@cms-pto.org
SUMMARY:CMS Fundraiser Panda Express
DESCRIPTION:Support the CMS PTO by enjoying a meal from Panda Express \nDecember 12\, 2022\, Monday\, between 10 am to 9 pm \n\n\n21000 Stevens Creek Blvd\, Cupertino\n\nYou can order online for pick up or in-person.\nWhen ordering online using the app or pandaexpress.com use the code 344521.\nShow the attached flyer when ordering in-person.
URL:https://cms-pto.org/event/cms-fundraiser-panda-express/
CATEGORIES:Dine Out Night
END:VEVENT
BEGIN:VEVENT
DTSTART;TZID=America/Denver:20221109T190000
DTEND;TZID=America/Denver:20221109T203000
DTSTAMP:20260423T152201
CREATED:20220830T013523Z
LAST-MODIFIED:20220830T013523Z
UID:1316-1668020400-1668025800@cms-pto.org
SUMMARY:CMS PTO Meeting (November)
DESCRIPTION:
URL:https://cms-pto.org/event/cms-pto-meeting-november-2/
END:VEVENT
BEGIN:VEVENT
DTSTART;VALUE=DATE:20221107
DTEND;VALUE=DATE:20221108
DTSTAMP:20260423T152201
CREATED:20221005T233729Z
LAST-MODIFIED:20221005T233729Z
UID:1369-1667779200-1667865599@cms-pto.org
SUMMARY:CMS PTO Pizza Party
DESCRIPTION:Help Cupertino Middle School PTO raise some dough by ordering pizza from MOD Pizza on Nov 7\, 2022\, Monday (all day).\nAll orders at MOD Pizza will earn us 20% of sales by using the fundraising code MODF14104.\nYou can order in person or online (modpizza.com) on the day of the fundraiser at any time of the day.  Just don’t forget to use the code!\nMOD Pizza is at 10815 N Wolfe Rd\, Suite 106\, Cupertino.CMSPTO MOD Pizza
URL:https://cms-pto.org/event/cms-pto-pizza-party/
CATEGORIES:Dine Out Night
END:VEVENT
BEGIN:VEVENT
DTSTART;TZID=America/Denver:20221014T170000
DTEND;TZID=America/Denver:20221014T190000
DTSTAMP:20260423T152201
CREATED:20220909T195403Z
LAST-MODIFIED:20220909T195458Z
UID:1339-1665766800-1665774000@cms-pto.org
SUMMARY:Fall Family Night
DESCRIPTION:Save the date for our Fall Family Night on campus on October 14\, 2022 in the afternoon
URL:https://cms-pto.org/event/fall-family-night-2/
LOCATION:CMS Quad
END:VEVENT
BEGIN:VEVENT
DTSTART;TZID=America/Denver:20221012T190000
DTEND;TZID=America/Denver:20221012T203000
DTSTAMP:20260423T152201
CREATED:20220830T013418Z
LAST-MODIFIED:20220830T013418Z
UID:1314-1665601200-1665606600@cms-pto.org
SUMMARY:CMS PTO Meeting (October)
DESCRIPTION:
URL:https://cms-pto.org/event/cms-pto-meeting-october-2/
END:VEVENT
BEGIN:VEVENT
DTSTART;TZID=America/Denver:20221008T090000
DTEND;TZID=America/Denver:20221008T160000
DTSTAMP:20260423T152201
CREATED:20220909T201002Z
LAST-MODIFIED:20220909T201002Z
UID:1345-1665219600-1665244800@cms-pto.org
SUMMARY:E-Waste Recycling on Oct 8\, 2022
DESCRIPTION:Recycle your old electronics for free.  Drop off at CMS parking lot. More details to follow.
URL:https://cms-pto.org/event/e-waste-recycling-on-oct-8-2022/
LOCATION:CMS Parking lot
CATEGORIES:CMS-PTO Community Event
END:VEVENT
BEGIN:VEVENT
DTSTART;VALUE=DATE:20221003
DTEND;VALUE=DATE:20221004
DTSTAMP:20260423T152201
CREATED:20220909T200419Z
LAST-MODIFIED:20220909T200419Z
UID:1342-1664755200-1664841599@cms-pto.org
SUMMARY:CMS-PTO Chipotle Fundraiser Oct 3
DESCRIPTION:Order Online for pickup using code WGTLAN4
URL:https://cms-pto.org/event/cms-pto-chipotle-fundraiser-oct-3/
LOCATION:Chipotle\, 20688 Homestead Rd.\, Cupertino\, CA\, United States
CATEGORIES:Dine Out Night
END:VEVENT
BEGIN:VEVENT
DTSTART;TZID=America/Denver:20220914T190000
DTEND;TZID=America/Denver:20220914T203000
DTSTAMP:20260423T152201
CREATED:20220830T013324Z
LAST-MODIFIED:20220830T013324Z
UID:1312-1663182000-1663187400@cms-pto.org
SUMMARY:CMS PTO Meeting (September)
DESCRIPTION:
URL:https://cms-pto.org/event/cms-pto-meeting-september-2/
END:VEVENT
BEGIN:VEVENT
DTSTART;TZID=America/Denver:20220112T183000
DTEND;TZID=America/Denver:20220112T200000
DTSTAMP:20260423T152201
CREATED:20210816T194750Z
LAST-MODIFIED:20210816T194750Z
UID:1185-1642012200-1642017600@cms-pto.org
SUMMARY:CMS-PTO Board Meeting (January)
DESCRIPTION:
URL:https://cms-pto.org/event/cms-pto-board-meeting-january/
END:VEVENT
BEGIN:VEVENT
DTSTART;TZID=America/Denver:20211208T183000
DTEND;TZID=America/Denver:20211208T200000
DTSTAMP:20260423T152201
CREATED:20210816T194647Z
LAST-MODIFIED:20211110T003621Z
UID:1183-1638988200-1638993600@cms-pto.org
SUMMARY:CMS-PTO Board Meeting (December)
DESCRIPTION:Topic: CMS-PTO Meeting – December\nTime: Dec 8\, 2021 06:30 PM Pacific Time (US and Canada) \nJoin Zoom Meeting\nhttps://us02web.zoom.us/j/86463940751?pwd=Z2NyVUxkcmdRcTlJMURqM1NVRThZUT09 \nMeeting ID: 864 6394 0751\nPasscode: CMS2021 \n 
URL:https://cms-pto.org/event/cms-pto-board-meeting-december/
END:VEVENT
BEGIN:VEVENT
DTSTART;TZID=America/Denver:20211110T183000
DTEND;TZID=America/Denver:20211110T200000
DTSTAMP:20260423T152201
CREATED:20210816T194537Z
LAST-MODIFIED:20211110T002917Z
UID:1181-1636569000-1636574400@cms-pto.org
SUMMARY:CMS-PTO Board Meeting (November)
DESCRIPTION:Join Zoom Meeting\nhttps://us02web.zoom.us/j/83409372788?pwd=RlFCdGdwcXp5R3g3S21NVmZNZ1N3UT09 \nMeeting ID: 834 0937 2788\nPasscode: CMS2021 \n 
URL:https://cms-pto.org/event/cms-pto-board-meeting-november/
END:VEVENT
BEGIN:VEVENT
DTSTART;TZID=America/Denver:20211105T080000
DTEND;TZID=America/Denver:20211105T170000
DTSTAMP:20260423T152201
CREATED:20211110T003219Z
LAST-MODIFIED:20211110T003245Z
UID:1231-1636099200-1636131600@cms-pto.org
SUMMARY:Fall Family Night  -Nov 5@7pm - 8pm
DESCRIPTION:
URL:https://cms-pto.org/event/fall-family-night-nov-57pm-8pm/
END:VEVENT
BEGIN:VEVENT
DTSTART;TZID=America/Denver:20211013T183000
DTEND;TZID=America/Denver:20211013T200000
DTSTAMP:20260423T152201
CREATED:20210816T194419Z
LAST-MODIFIED:20210901T013251Z
UID:1179-1634149800-1634155200@cms-pto.org
SUMMARY:CMS-PTO Board Meeting (October)
DESCRIPTION:Zoom Meeting\nhttps://us02web.zoom.us/j/82317379706?pwd=VmxIcU9YM1k0Nk5JdXIzVnBOeTZqUT09 \nMeeting ID: 823 1737 9706\nPasscode: CMS2021 \n 
URL:https://cms-pto.org/event/cms-pto-board-meeting-october/
END:VEVENT
BEGIN:VEVENT
DTSTART;TZID=America/Denver:20210916T183000
DTEND;TZID=America/Denver:20210916T200000
DTSTAMP:20260423T152201
CREATED:20210901T012336Z
LAST-MODIFIED:20210901T032900Z
UID:1192-1631817000-1631822400@cms-pto.org
SUMMARY:CMS-PTO Parent Talk
DESCRIPTION:Topic: What to Do So You Don’t Need Consequences…and What to Do When You Do Need Them!  \nSpeaker: Elisabeth Stitt \nhttps://us02web.zoom.us/j/89054960847?pwd=OG9hSXZnVUNTU1h3Wkg2MVR4UWhjdz09 \n 
URL:https://cms-pto.org/event/cms-pto-parent-talk/
END:VEVENT
BEGIN:VEVENT
DTSTART;TZID=America/Denver:20210908T183000
DTEND;TZID=America/Denver:20210908T200000
DTSTAMP:20260423T152201
CREATED:20210816T194318Z
LAST-MODIFIED:20210901T012714Z
UID:1177-1631125800-1631131200@cms-pto.org
SUMMARY:CMS-PTO Board Meeting (September)
DESCRIPTION:Zoom Meeting\nhttps://us02web.zoom.us/j/89745258748?pwd=WDVnNGx6NW1jTXhtbUNIOU4zNE15Zz09 \nMeeting ID: 897 4525 8748 | Passcode: CMS2021
URL:https://cms-pto.org/event/cms-pto-board-meeting-september/
END:VEVENT
BEGIN:VEVENT
DTSTART;VALUE=DATE:20210816
DTEND;VALUE=DATE:20210817
DTSTAMP:20260423T152201
CREATED:20210816T193845Z
LAST-MODIFIED:20210816T193845Z
UID:1173-1629072000-1629158399@cms-pto.org
SUMMARY:Welcome Back to School CMS Students! (2021-22)
DESCRIPTION:
URL:https://cms-pto.org/event/welcome-back-to-school-cms-students-2021-22/
END:VEVENT
BEGIN:VEVENT
DTSTART;TZID=America/Denver:20210811T183000
DTEND;TZID=America/Denver:20210811T200000
DTSTAMP:20260423T152201
CREATED:20210816T194205Z
LAST-MODIFIED:20210816T194205Z
UID:1175-1628706600-1628712000@cms-pto.org
SUMMARY:CMS-PTO Board Meeting (August)
DESCRIPTION:
URL:https://cms-pto.org/event/cms-pto-board-meeting-august/
END:VEVENT
BEGIN:VEVENT
DTSTART;TZID=America/Denver:20210514T183000
DTEND;TZID=America/Denver:20210514T193000
DTSTAMP:20260423T152201
CREATED:20201021T183947Z
LAST-MODIFIED:20201021T183947Z
UID:1022-1621017000-1621020600@cms-pto.org
SUMMARY:CMS-PTO Spring Event (Save the Date)
DESCRIPTION:
URL:https://cms-pto.org/event/cms-pto-spring-event-save-the-date/
END:VEVENT
BEGIN:VEVENT
DTSTART;TZID=America/Denver:20210223T153000
DTEND;TZID=America/Denver:20210223T163000
DTSTAMP:20260423T152201
CREATED:20210205T043857Z
LAST-MODIFIED:20210205T043857Z
UID:1085-1614094200-1614097800@cms-pto.org
SUMMARY:CMS-PTO (February)
DESCRIPTION:Topic: CMS-PTO Meeting (February 2021)\nTime: Feb 23\, 2021 03:30 PM Pacific Time (US and Canada) \nZoom Meeting\nhttps://us02web.zoom.us/j/85341058421?pwd=c0xFYWROdElXUWt4RmVwUkMxaXM1dz09 \nMeeting ID: 853 4105 8421\nPasscode: Gobears! \n 
URL:https://cms-pto.org/event/cms-pto-february/
END:VEVENT
BEGIN:VEVENT
DTSTART;TZID=America/Denver:20210209T180000
DTEND;TZID=America/Denver:20210209T190000
DTSTAMP:20260423T152201
CREATED:20210205T044115Z
LAST-MODIFIED:20210205T044115Z
UID:1088-1612893600-1612897200@cms-pto.org
SUMMARY:YES for CUSD Parent Information Night - Hosted by CMS-PTO
DESCRIPTION:Topic: YES for CUSD Parent Information Night – Hosted by CMS-PTO\nTime: Feb 9\, 2021 06:00 PM Pacific Time (US and Canada) \nZoom Meeting\nhttps://us02web.zoom.us/j/89632840134?pwd=T0MxbDAyYU84bjJqZnRnVTlMWEVFZz09 \nMeeting ID: 896 3284 0134\nPasscode: cms \n 
URL:https://cms-pto.org/event/yes-for-cusd-parent-information-night-hosted-by-cms-pto/
END:VEVENT
BEGIN:VEVENT
DTSTART;TZID=America/Denver:20210119T153000
DTEND;TZID=America/Denver:20210119T163000
DTSTAMP:20260423T152201
CREATED:20210205T043622Z
LAST-MODIFIED:20210205T043949Z
UID:1083-1611070200-1611073800@cms-pto.org
SUMMARY:CMS-PTO Meeting (January)
DESCRIPTION:Topic: CMS-PTO Meeting (January 2021)\nTime: Jan 19\, 2021 03:30 PM Pacific Time (US and Canada) \nZoom Meeting\nhttps://us02web.zoom.us/j/81414135325?pwd=bktTTnhhSllQbkhaVjBsM0ttakQrZz09 \nMeeting ID: 814 1413 5325\nPasscode: gobears! \n 
URL:https://cms-pto.org/event/cms-pto-meeting-january/
END:VEVENT
BEGIN:VEVENT
DTSTART;TZID=America/Denver:20201215T153000
DTEND;TZID=America/Denver:20201215T163000
DTSTAMP:20260423T152201
CREATED:20200915T192032Z
LAST-MODIFIED:20200915T192508Z
UID:951-1608046200-1608049800@cms-pto.org
SUMMARY:CMS-PTO Meeting (December)
DESCRIPTION:Join Zoom Meeting\nhttps://us02web.zoom.us/j/86018839584?pwd=WmVicXhvL2E2VDBGMVhYS3BaWXV1Zz09 \nMeeting ID: 860 1883 9584\nPasscode: gobears! \n2020-12-15 CMS-PTO Meeting Agenda
URL:https://cms-pto.org/event/cms-pto-meeting-december/
END:VEVENT
BEGIN:VEVENT
DTSTART;TZID=America/Denver:20201130T183000
DTEND;TZID=America/Denver:20201130T200000
DTSTAMP:20260423T152201
CREATED:20201111T071104Z
LAST-MODIFIED:20201111T071118Z
UID:1040-1606761000-1606766400@cms-pto.org
SUMMARY:CMS-PTO Professional Speaker Series: "A Day In The Life Of Authors"
DESCRIPTION:Do you  love to write? Do you aspire to become a writer and publish a book someday? Students\, we have a treat for you. Come listen to our panelists of authors and be inspired. \nZoom: Meeting ID: 899 1437 8853\nPasscode: Writing \n 
URL:https://cms-pto.org/event/cms-pto-professional-speaker-series-a-day-in-the-life-of-authors/
END:VEVENT
BEGIN:VEVENT
DTSTART;TZID=America/Denver:20201119T193000
DTEND;TZID=America/Denver:20201119T203000
DTSTAMP:20260423T152201
CREATED:20201111T070614Z
LAST-MODIFIED:20201111T070614Z
UID:1038-1605814200-1605817800@cms-pto.org
SUMMARY:CMS-PTO Parent Talk Series: "How to release stress and create success in uncertain times"
DESCRIPTION:Zoom Meeting ID: 838 5742 2511\nPassword: Relax
URL:https://cms-pto.org/event/cms-pto-parent-talk-series-how-to-release-stress-and-create-success-in-uncertain-times/
END:VEVENT
BEGIN:VEVENT
DTSTART;TZID=America/Denver:20201117T153000
DTEND;TZID=America/Denver:20201117T163000
DTSTAMP:20260423T152201
CREATED:20200915T191758Z
LAST-MODIFIED:20201117T230845Z
UID:948-1605627000-1605630600@cms-pto.org
SUMMARY:CMS-PTO Meeting (November)
DESCRIPTION:May Bakken is inviting you to a scheduled Zoom meeting. \nJoin Zoom Meeting\nhttps://us02web.zoom.us/j/87435540832?pwd=cXJySmRQYU5MOGNUZm5WRmNYK1I4UT09 \nMeeting ID: 874 3554 0832\nPasscode: gobears! \n2020-11-17 CMS-PTO Meeting Agenda1 \nTreasurer Report 2020_10_19 \n 
URL:https://cms-pto.org/event/cms-pto-meeting-november/
END:VEVENT
END:VCALENDAR