BEGIN:VCALENDAR
VERSION:2.0
PRODID:-// - ECPv6.15.10//NONSGML v1.0//EN
CALSCALE:GREGORIAN
METHOD:PUBLISH
X-ORIGINAL-URL:https://cms-pto.org
X-WR-CALDESC:Events for 
REFRESH-INTERVAL;VALUE=DURATION:PT1H
X-Robots-Tag:noindex
X-PUBLISHED-TTL:PT1H
BEGIN:VTIMEZONE
TZID:America/Denver
BEGIN:DAYLIGHT
TZOFFSETFROM:-0700
TZOFFSETTO:-0600
TZNAME:MDT
DTSTART:20170312T090000
END:DAYLIGHT
BEGIN:STANDARD
TZOFFSETFROM:-0600
TZOFFSETTO:-0700
TZNAME:MST
DTSTART:20171105T080000
END:STANDARD
BEGIN:DAYLIGHT
TZOFFSETFROM:-0700
TZOFFSETTO:-0600
TZNAME:MDT
DTSTART:20180311T090000
END:DAYLIGHT
BEGIN:STANDARD
TZOFFSETFROM:-0600
TZOFFSETTO:-0700
TZNAME:MST
DTSTART:20181104T080000
END:STANDARD
BEGIN:DAYLIGHT
TZOFFSETFROM:-0700
TZOFFSETTO:-0600
TZNAME:MDT
DTSTART:20190310T090000
END:DAYLIGHT
BEGIN:STANDARD
TZOFFSETFROM:-0600
TZOFFSETTO:-0700
TZNAME:MST
DTSTART:20191103T080000
END:STANDARD
BEGIN:DAYLIGHT
TZOFFSETFROM:-0700
TZOFFSETTO:-0600
TZNAME:MDT
DTSTART:20200308T090000
END:DAYLIGHT
BEGIN:STANDARD
TZOFFSETFROM:-0600
TZOFFSETTO:-0700
TZNAME:MST
DTSTART:20201101T080000
END:STANDARD
END:VTIMEZONE
BEGIN:VEVENT
DTSTART;TZID=America/Denver:20190405T160000
DTEND;TZID=America/Denver:20190405T190000
DTSTAMP:20260424T024604
CREATED:20190116T041713Z
LAST-MODIFIED:20190116T041713Z
UID:501-1554480000-1554490800@cms-pto.org
SUMMARY:Spring Fling
DESCRIPTION:
URL:https://cms-pto.org/event/spring-fling/
LOCATION:Cupertino Middle School
END:VEVENT
BEGIN:VEVENT
DTSTART;TZID=America/Denver:20190403T183000
DTEND;TZID=America/Denver:20190403T193000
DTSTAMP:20260424T024604
CREATED:20180728T074041Z
LAST-MODIFIED:20190330T233756Z
UID:112-1554316200-1554319800@cms-pto.org
SUMMARY:CMS-PTO Meeting 8 and Election for 2019-20 Board Members
DESCRIPTION:The Cupertino Middle School Parent Teacher Organization meets first Wednesday of each month in the school office conference room. *All CMS parents are welcome to attend and participate in the discussions and proposal reviews.
URL:https://cms-pto.org/event/cms-pto-meeting-8-2/
LOCATION:Cupertino Middle School – Office Conference Room\, 1650 S Bernardo Ave\,\, Sunnyvale\, CA\, 94087\, United States
END:VEVENT
BEGIN:VEVENT
DTSTART;TZID=America/Denver:20190306T180000
DTEND;TZID=America/Denver:20190306T183000
DTSTAMP:20260424T024604
CREATED:20190213T030928Z
LAST-MODIFIED:20190213T030928Z
UID:535-1551895200-1551897000@cms-pto.org
SUMMARY:What the Future Holds for CUSD - a talk with Superintendent Dr. Craig Baker
DESCRIPTION:Please join us in welcoming Superintendent Dr. Craig Baker on March 6 at 6:00 PM in the CMS Library for a conversation about OUR District and the work ahead to ensure all students benefit from a quality education. Dr. Baker will share information about the District\, CUSD goals and priorities\, while also providing a District budget update highlighting strategic next steps. As the leader of our District\, Dr. Baker’s focus continues to be on providing opportunities\, experiences\, and resources to all of our children at each of our 25 schools. CUSD25 – We are in it together! \nPlease RSVP at https://www.eventbrite.com/e/what-the-future-holds-for-cusd-a-talk-with-superintendent-dr-craig-baker-tickets-56145071420
URL:https://cms-pto.org/event/what-the-future-holds-for-cusd-a-talk-with-superintendent-dr-craig-baker/
LOCATION:CMS Library
END:VEVENT
BEGIN:VEVENT
DTSTART;TZID=America/Denver:20190305T183000
DTEND;TZID=America/Denver:20190305T200000
DTSTAMP:20260424T024604
CREATED:20180728T072753Z
LAST-MODIFIED:20190224T215149Z
UID:96-1551810600-1551816000@cms-pto.org
SUMMARY:CMS-PTO Meeting 7 (Voting Meeting)
DESCRIPTION:The Cupertino Middle School Parent Teacher Organization meets first Wednesday of each month in the school office conference room.\n*All CMS parents are welcome to attend and participate in the discussions and proposal reviews.
URL:https://cms-pto.org/event/cms-pto-meeting-7-voting-meeting/
LOCATION:Cupertino Middle School – Office Conference Room\, 1650 S Bernardo Ave\,\, Sunnyvale\, CA\, 94087\, United States
END:VEVENT
BEGIN:VEVENT
DTSTART;TZID=America/Denver:20190227T183000
DTEND;TZID=America/Denver:20190227T193000
DTSTAMP:20260424T024604
CREATED:20190225T025644Z
LAST-MODIFIED:20190225T025644Z
UID:541-1551292200-1551295800@cms-pto.org
SUMMARY:CMS-PTO Talk: Drugs\, Alcohol\, and Other Substances – How to Talk to Your Kids About Use and Abuse
DESCRIPTION:Drugs\, Alcohol\, and Other Substances – How to Talk to Your Kids About Use and Abuse. \n6:30-7:30pm in the CMS Library. \nMany parents are concerned about their tweens’ and teens’ exposure to drugs\, alcohol\, and other substances. Issues such as underage drinking\, marijuana legalization\, vaping (e-cigarettes)\, and abusing prescription drugs\, such as Ritalin\, are worrisome. \nDo you have questions about setting limits\, disciplining\, or monitoring your kids? Do you think you have the necessary knowledge to communicate with your tweens and teens about these issues? \nThis presentation will help you develop an effective parent-teen  conversation about drug and alcohol use. You’ll learn about the psychoactive nature of common substances\, dosage ranges\, and risks. Communication guidelines will be demonstrated and discussed. There will Q&A at the end. Parents and guardians only\, please. \n\nDr. Ili Bar-Sade\, PsyD is a Clinical Psychologist and lecturer specializing in working with individuals who have experienced trauma\, as well as individuals who suffer from addiction (substance and behavioral: alcohol\, cannabis\, prescription drugs\, computer games and electronics etc.). Dr. Bar-Sade holds an M.A degree in Clinical and Educational Psychology from Haifa University\, Israel and a Doctorate degree in Clinical Psychology from Alliant International University (CSPP). \nPlease RSVP at: https://www.eventbrite.com/e/cms-pto-talk-drugs-alcohol-and-other-substances-how-to-talk-to-your-kids-about-use-and-abuse-tickets-55193378882
URL:https://cms-pto.org/event/cms-pto-talk-drugs-alcohol-and-other-substances-how-to-talk-to-your-kids-about-use-and-abuse/
LOCATION:CMS Library
END:VEVENT
BEGIN:VEVENT
DTSTART;TZID=America/Denver:20190225T180000
DTEND;TZID=America/Denver:20190225T200000
DTSTAMP:20260424T024604
CREATED:20190208T052729Z
LAST-MODIFIED:20190208T052729Z
UID:530-1551117600-1551124800@cms-pto.org
SUMMARY:Homestead Rd. Corridor Safe Routes Study Meeting 2/25/19 @ 6-8pm
DESCRIPTION:
URL:https://cms-pto.org/event/homestead-rd-corridor-safe-routes-study-meeting-2-25-19-6-8pm/
LOCATION:Homestead High School Auditorium
END:VEVENT
BEGIN:VEVENT
DTSTART;TZID=America/Denver:20190206T183000
DTEND;TZID=America/Denver:20190206T193000
DTSTAMP:20260424T024604
CREATED:20180728T072524Z
LAST-MODIFIED:20180728T073550Z
UID:91-1549477800-1549481400@cms-pto.org
SUMMARY:CMS-PTO Meeting 6
DESCRIPTION:The Cupertino Middle School Parent Teacher Organization meets first Wednesday of each month in the school office conference room.\n*All CMS parents are welcome to attend and participate in the discussions and proposal reviews.
URL:https://cms-pto.org/event/cms-pto-meeting-6/
LOCATION:Cupertino Middle School – Office Conference Room\, 1650 S Bernardo Ave\,\, Sunnyvale\, CA\, 94087\, United States
END:VEVENT
BEGIN:VEVENT
DTSTART;TZID=America/Denver:20190205T160000
DTEND;TZID=America/Denver:20190205T210000
DTSTAMP:20260424T024604
CREATED:20190131T155650Z
LAST-MODIFIED:20190131T155650Z
UID:518-1549382400-1549400400@cms-pto.org
SUMMARY:Feb. 5\, 2019: Dine Out and Support CMS-PTO!
DESCRIPTION:Take a night off from cooking and support CMS-PTO! Go to Pizza My Heart on Tuesday\, February 5 from 4pm-9pm. 30% of proceeds will go to CMS-PTO to support our students and staff. \nValid only at the Pizza My Heart at 20530 Stevens Creek Blvd. in Cupertino. Please note that you must mention the CMS-PTO fundraiser while ordering and before you pay.
URL:https://cms-pto.org/event/feb-5-2019-dine-out-and-support-cms-pto/
END:VEVENT
BEGIN:VEVENT
DTSTART;TZID=America/Denver:20190130T183000
DTEND;TZID=America/Denver:20190130T193000
DTSTAMP:20260424T024604
CREATED:20190111T015421Z
LAST-MODIFIED:20190111T015421Z
UID:492-1548873000-1548876600@cms-pto.org
SUMMARY:CMS-PTO Talk - Anxiety & Depression in Tweens and Teens: Learn How to Recognize the Signs and What to Do When You See Them
DESCRIPTION:
URL:https://cms-pto.org/event/cms-pto-talk-anxiety-depression-in-tweens-and-teens-learn-how-to-recognize-the-signs-and-what-to-do-when-you-see-them/
LOCATION:CMS Library
END:VEVENT
BEGIN:VEVENT
DTSTART;TZID=America/Denver:20190102T183000
DTEND;TZID=America/Denver:20190102T193000
DTSTAMP:20260424T024604
CREATED:20180728T071849Z
LAST-MODIFIED:20180728T073537Z
UID:86-1546453800-1546457400@cms-pto.org
SUMMARY:CMS-PTO Meeting 5 (Voting Meeting)
DESCRIPTION:The Cupertino Middle School Parent Teacher Organization meets first Wednesday of each month in the school office conference room.\n*All CMS parents are welcome to attend and participate in the discussions and proposal reviews.
URL:https://cms-pto.org/event/cms-pto-meeting-5-voting-meeting/
LOCATION:Cupertino Middle School – Office Conference Room\, 1650 S Bernardo Ave\,\, Sunnyvale\, CA\, 94087\, United States
END:VEVENT
BEGIN:VEVENT
DTSTART;TZID=America/Denver:20181205T183000
DTEND;TZID=America/Denver:20181205T193000
DTSTAMP:20260424T024604
CREATED:20180728T071525Z
LAST-MODIFIED:20180728T073526Z
UID:81-1544034600-1544038200@cms-pto.org
SUMMARY:CMS-PTO Meeting 4
DESCRIPTION:The Cupertino Middle School Parent Teacher Organization meets first Wednesday of each month in the school office conference room.\n*All CMS parents are welcome to attend and participate in the discussions and proposal reviews.
URL:https://cms-pto.org/event/cms-pto-meeting-4/
LOCATION:Cupertino Middle School – Office Conference Room\, 1650 S Bernardo Ave\,\, Sunnyvale\, CA\, 94087\, United States
END:VEVENT
BEGIN:VEVENT
DTSTART;TZID=America/Denver:20181107T183000
DTEND;TZID=America/Denver:20181107T193000
DTSTAMP:20260424T024604
CREATED:20180728T071217Z
LAST-MODIFIED:20180728T174946Z
UID:77-1541615400-1541619000@cms-pto.org
SUMMARY:CMS-PTO Meeting 3 (Voting Meeting)
DESCRIPTION:The Cupertino Middle School Parent Teacher Organization meets first Wednesday of each month in the school office conference room.\n*All CMS parents are welcome to attend and participate in the discussions and proposal reviews.
URL:https://cms-pto.org/event/cms-pto-meeting-3-voting-meeting/
LOCATION:Cupertino Middle School – Office Conference Room\, 1650 S Bernardo Ave\,\, Sunnyvale\, CA\, 94087\, United States
END:VEVENT
BEGIN:VEVENT
DTSTART;TZID=America/Denver:20181102T160000
DTEND;TZID=America/Denver:20181102T190000
DTSTAMP:20260424T024604
CREATED:20180803T001602Z
LAST-MODIFIED:20180813T225748Z
UID:356-1541174400-1541185200@cms-pto.org
SUMMARY:CMS Fall Family Night
DESCRIPTION:
URL:https://cms-pto.org/event/cms-family-fall-night-multi-cultural-theme/
LOCATION:Cupertino Middle School – Office Conference Room\, 1650 S Bernardo Ave\,\, Sunnyvale\, CA\, 94087\, United States
END:VEVENT
BEGIN:VEVENT
DTSTART;TZID=America/Denver:20181030T170000
DTEND;TZID=America/Denver:20181030T210000
DTSTAMP:20260424T024604
CREATED:20181022T235549Z
LAST-MODIFIED:20181022T235549Z
UID:436-1540918800-1540933200@cms-pto.org
SUMMARY:Chipotle Fundraiser
DESCRIPTION:Don’t let last-minute Halloween prep foil your plans for a fun\, family dinner. On Tuesday\, October 30\, eat at Chipotle and they’ll donate money to CMS-PTO! Visit the location at 20688 Homestead Road in Cupertino from 5:00pm-9:00pm and mention CMS-PTO at checkout. It’s that easy! Your family will get a great meal and CMS-PTO will get 33% of the proceeds. We look forward to seeing you. Thank you for supporting our students\, staff\, and school.
URL:https://cms-pto.org/event/chipotle-fundraiser/
END:VEVENT
BEGIN:VEVENT
DTSTART;TZID=America/Denver:20181003T183000
DTEND;TZID=America/Denver:20181003T193000
DTSTAMP:20260424T024604
CREATED:20180728T070820Z
LAST-MODIFIED:20180728T073452Z
UID:74-1538591400-1538595000@cms-pto.org
SUMMARY:CMS-PTO Meeting 2
DESCRIPTION:The Cupertino Middle School Parent Teacher Organization meets first Wednesday of each month in the school office conference room.\n*All CMS parents are welcome to attend and participate in the discussions and proposal reviews.
URL:https://cms-pto.org/event/cms-pto-meeting-2-voting-meeting/
END:VEVENT
BEGIN:VEVENT
DTSTART;TZID=America/Denver:20180928T081500
DTEND;TZID=America/Denver:20180928T091500
DTSTAMP:20260424T024604
CREATED:20180919T063643Z
LAST-MODIFIED:20180919T063643Z
UID:420-1538122500-1538126100@cms-pto.org
SUMMARY:Parent Engagement Session
DESCRIPTION:Parent Engagement Session:  CUSD Strategic Plan Timeline – Friday\, September 28\, 2018\, CMS Library @ 8:15 – 9:15 am \nThis CMS engagement session will start to develop a long-range strategic plan that clarifies our vision for students and goals and priorities for CUSD.  We will engage our CMS stakeholders in developing a plan that articulates the community’s aspirations for all students. Mike Cellini\, Jean Wang\, and Jeanine Woodell look forward to working with all interested parents/guardians.
URL:https://cms-pto.org/event/parent-engagement-session/
LOCATION:CMS Library
END:VEVENT
BEGIN:VEVENT
DTSTART;TZID=America/Denver:20180905T183000
DTEND;TZID=America/Denver:20180905T193000
DTSTAMP:20260424T024604
CREATED:20180728T065933Z
LAST-MODIFIED:20180728T073419Z
UID:43-1536172200-1536175800@cms-pto.org
SUMMARY:CMS-PTO Meeting 1 (Voting Meeting)
DESCRIPTION:The Cupertino Middle School Parent Teacher Organization meets first Wednesday of each month in the school office conference room.\n*All CMS parents are welcome to attend and participate in the discussions and proposal reviews.
URL:https://cms-pto.org/event/cms-pto-meeting/
LOCATION:Cupertino Middle School – Office Conference Room\, 1650 S Bernardo Ave\,\, Sunnyvale\, CA\, 94087\, United States
END:VEVENT
BEGIN:VEVENT
DTSTART;VALUE=DATE:20180825
DTEND;VALUE=DATE:20180826
DTSTAMP:20260424T024604
CREATED:20180728T180755Z
LAST-MODIFIED:20180728T204614Z
UID:242-1535155200-1535241599@cms-pto.org
SUMMARY:CEEF 4th Annual "Run for Great Schools" 5K
DESCRIPTION:Celebrate the start of a new school year by joining CEEF for our 4th Annual “Run for Great Schools”\nSaturday\, August 25\, 2018 at 8:30 AM\nThe Oaks Shopping Center (NEW LOCATION!)\n21267 Stevens Creek Blvd\, Cupertino\n\nRegistration and Race start on the back side of The Oaks Shopping Center (Mary Avenue) \nSupport our Great Schools of the Cupertino Union School District by running\, walking\, or cheering on your favorite runner or team! \n\n5K timed race for all levels\, from casual walkers to competitive athletes: $35 till 8/18\nFun Run for little ones (ages 6 and under): $15 till 8/18\nRace shirts for all participants!\nAwards\, food\, and fun!
URL:https://cms-pto.org/event/ceef-4th-annual-run-for-great-schools-5k/
LOCATION:The Oaks Shopping Center\, 21267 Stevens Creek Blvd\,\, Cupertino\, CA\, United States
END:VEVENT
BEGIN:VEVENT
DTSTART;VALUE=DATE:20180824
DTEND;VALUE=DATE:20180825
DTSTAMP:20260424T024604
CREATED:20180728T175432Z
LAST-MODIFIED:20180728T175432Z
UID:237-1535068800-1535155199@cms-pto.org
SUMMARY:Picture Day
DESCRIPTION:
URL:https://cms-pto.org/event/picture-day/
LOCATION:The Oaks Shopping Center\, 21267 Stevens Creek Blvd\,\, Cupertino\, CA\, United States
END:VEVENT
BEGIN:VEVENT
DTSTART;VALUE=DATE:20180816
DTEND;VALUE=DATE:20180817
DTSTAMP:20260424T024604
CREATED:20180728T175313Z
LAST-MODIFIED:20180728T175450Z
UID:235-1534377600-1534463999@cms-pto.org
SUMMARY:First Day Back to School
DESCRIPTION:
URL:https://cms-pto.org/event/first-day-back-to-school/
LOCATION:The Oaks Shopping Center\, 21267 Stevens Creek Blvd\,\, Cupertino\, CA\, United States
END:VEVENT
BEGIN:VEVENT
DTSTART;TZID=America/Denver:20180814T160000
DTEND;TZID=America/Denver:20180814T180000
DTSTAMP:20260424T024604
CREATED:20180728T074719Z
LAST-MODIFIED:20180729T070955Z
UID:114-1534262400-1534269600@cms-pto.org
SUMMARY:"Back to School Bash"  Welcome Back Bears!
DESCRIPTION:Pick up Schedules.\nBring your family and join us for a picnic in the Quad.\nBYO Picnic Dinner or enjoy Food Trucks on hand.\n\n\nJoin us on Tuesday\, August 14 from 4:00 – 6:00pm for an afternoon/evening to welcome back students and families. The campus will be open to families. PE clothes and Bear Wear may be purchased. CMS PTO will be on hand for information. Join us if you are able! Food trucks will be available to provide dinner or ice cream for your family\, or bring your own picnic! Schedules will be available for pick up beginning at 4:00 for those students who are able to turn in their emergency cards and paperwork. Students who are not able to pick up schedules on this day will get their schedules on the first day of school\, Aug. 16.\n\nCome meet  the CMS-PTO Team! We will have a booth there to answer any questions you may have. 
URL:https://cms-pto.org/event/back-to-school-bash-welcome-back-bears/
LOCATION:Cupertino Middle School – Office Conference Room\, 1650 S Bernardo Ave\,\, Sunnyvale\, CA\, 94087\, United States
END:VEVENT
BEGIN:VEVENT
DTSTART;TZID=America/Denver:20180810T113000
DTEND;TZID=America/Denver:20180810T123000
DTSTAMP:20260424T024604
CREATED:20180728T174929Z
LAST-MODIFIED:20180728T174929Z
UID:232-1533900600-1533904200@cms-pto.org
SUMMARY:WEB orientation at CMS for new to CMS 7th/8th grades students
DESCRIPTION:
URL:https://cms-pto.org/event/web-orientation-at-cms-for-new-to-cms-7th-8th-grades-students/
LOCATION:The Oaks Shopping Center\, 21267 Stevens Creek Blvd\,\, Cupertino\, CA\, United States
END:VEVENT
BEGIN:VEVENT
DTSTART;TZID=America/Denver:20180810T080000
DTEND;TZID=America/Denver:20180810T120000
DTSTAMP:20260424T024604
CREATED:20180728T174550Z
LAST-MODIFIED:20180728T175052Z
UID:228-1533888000-1533902400@cms-pto.org
SUMMARY:WEB orientation at CMS for new 6th grade students
DESCRIPTION:
URL:https://cms-pto.org/event/web-orientation-at-cms-for-new-6th-grade-students-8/
LOCATION:The Oaks Shopping Center\, 21267 Stevens Creek Blvd\,\, Cupertino\, CA\, United States
END:VEVENT
END:VCALENDAR